Workbook
Name Cursos: Portada!$H$2:$H$11
Name Especialidades: Portada!$F$2:$F$27

Sheet Portada
F1: Especialidades (lista) | H1: Cursos (lista)
B2: SOLICITUDES DE PLAZA | F2: ACORDEÓN | H2: 1 EEM
F3: ARPA | H3: 2 EEM
F4: CANTO | H4: 3 EEM
B5: Recogida de datos de los modelos de solicitud | F5: CLARINETE | H5: 4 EEM
F6: CLAVECÍN | H6: 1 EPM
F7: CONTRABAJO | H7: 2 EPM
B8: DATOS DEL DOCUMENTO | F8: DULZAINA | H8: 3 EPM
F9: FAGOT | H9: 4 EPM
B10: Centro | F10: FLAUTA | H10: 5 EPM
B11: Curso académico | F11: FLAUTA DE PICO | H11: 6 EPM
B12: Estado del listado | C12: Provisional | F12: GUITARRA
F13: INSTRUMENTOS DE CUERDA PULSADA DEL RENACIMIENTO Y BARROCO
B14: SORTEO CONSELLERÍA | F14: INSTRUMENTOS DE PLECTRO
B15: Letra 1º apellido | C15: A | F15: OBOE
B16: Letra 2º apellido | C16: A | F16: ÓRGANO
B17: Orden alfabético circular desde la letra indicada (A-Z). Sin 2º apellido = AA. | F17: PERCUSIÓN
F18: PIANO
F19: SAXOFÓN
F20: TROMBÓN
F21: TROMPA
F22: TROMPETA
F23: TUBA
F24: VIOLA
F25: VIOLA DA GAMBA
F26: VIOLÍN
F27: VIOLONCHELO

Sheet Readmisión 1 Adj
A1: =Portada!$C$10
A2: ="Readmisión (1ª Adjudicación) — Curso "&Portada!$C$11
A3: Entrada de datos (rellena las filas)
A4: NIA | B4: Apellidos | C4: Nombre | D4: F. nacimiento | E4: Edad (31-dic) | F4: Especialidad | G4: Curso origen | H4: Curso solicitado | I4: Nota media | J4: Asignaturas pendientes | K4: Observaciones | L4: Convocatoria | M4: Fase | N4: Nivel prioridad
E5: =IF(D5="","",Portada!$C$11-YEAR(D5)) | N5: =IF($A5="","",IF(ISNUMBER(SEARCH("EPM",$H5)),IF($E5<18,"N1","N3"),IF($E5<12,"N2","N4")))
E6: =IF(D6="","",Portada!$C$11-YEAR(D6)) | N6: =IF($A6="","",IF(ISNUMBER(SEARCH("EPM",$H6)),IF($E6<18,"N1","N3"),IF($E6<12,"N2","N4")))
E7: =IF(D7="","",Portada!$C$11-YEAR(D7)) | N7: =IF($A7="","",IF(ISNUMBER(SEARCH("EPM",$H7)),IF($E7<18,"N1","N3"),IF($E7<12,"N2","N4")))
E8: =IF(D8="","",Portada!$C$11-YEAR(D8)) | N8: =IF($A8="","",IF(ISNUMBER(SEARCH("EPM",$H8)),IF($E8<18,"N1","N3"),IF($E8<12,"N2","N4")))
E9: =IF(D9="","",Portada!$C$11-YEAR(D9)) | N9: =IF($A9="","",IF(ISNUMBER(SEARCH("EPM",$H9)),IF($E9<18,"N1","N3"),IF($E9<12,"N2","N4")))
E10: =IF(D10="","",Portada!$C$11-YEAR(D10)) | N10: =IF($A10="","",IF(ISNUMBER(SEARCH("EPM",$H10)),IF($E10<18,"N1","N3"),IF($E10<12,"N2","N4")))
E11: =IF(D11="","",Portada!$C$11-YEAR(D11)) | N11: =IF($A11="","",IF(ISNUMBER(SEARCH("EPM",$H11)),IF($E11<18,"N1","N3"),IF($E11<12,"N2","N4")))
E12: =IF(D12="","",Portada!$C$11-YEAR(D12)) | N12: =IF($A12="","",IF(ISNUMBER(SEARCH("EPM",$H12)),IF($E12<18,"N1","N3"),IF($E12<12,"N2","N4")))
E13: =IF(D13="","",Portada!$C$11-YEAR(D13)) | N13: =IF($A13="","",IF(ISNUMBER(SEARCH("EPM",$H13)),IF($E13<18,"N1","N3"),IF($E13<12,"N2","N4")))
E14: =IF(D14="","",Portada!$C$11-YEAR(D14)) | N14: =IF($A14="","",IF(ISNUMBER(SEARCH("EPM",$H14)),IF($E14<18,"N1","N3"),IF($E14<12,"N2","N4")))
E15: =IF(D15="","",Portada!$C$11-YEAR(D15)) | N15: =IF($A15="","",IF(ISNUMBER(SEARCH("EPM",$H15)),IF($E15<18,"N1","N3"),IF($E15<12,"N2","N4")))
E16: =IF(D16="","",Portada!$C$11-YEAR(D16)) | N16: =IF($A16="","",IF(ISNUMBER(SEARCH("EPM",$H16)),IF($E16<18,"N1","N3"),IF($E16<12,"N2","N4")))
... E200: =IF(D200="","",Portada!$C$11-YEAR(D200)) | N200: =IF($A200="","",IF(ISNUMBER(SEARCH("EPM",$H200)),IF($E200<18,"N1","N3"),IF($E200<12,"N2","N4")))

Sheet Cambio Especialidad
A1: =Portada!$C$10
A2: ="Cambio de especialidad en 2 EEM (1ª Adjudicación) — Curso "&Portada!$C$11
A3: Entrada de datos — el alumnado procede siempre de 1 EEM y solicita el cambio a 2 EEM. En Observaciones se indica la especialidad de origen.
A4: NIA | B4: Apellidos | C4: Nombre | D4: F. nacimiento | E4: Edad (31-dic) | F4: Curso origen | G4: Curso solicitado | H4: Especialidad solicitada | I4: Nota media | J4: Observaciones (especialidad de origen) | K4: Convocatoria | L4: Fase | M4: Nivel prioridad
E5: =IF(D5="","",Portada!$C$11-YEAR(D5))
E6: =IF(D6="","",Portada!$C$11-YEAR(D6))
E7: =IF(D7="","",Portada!$C$11-YEAR(D7))
E8: =IF(D8="","",Portada!$C$11-YEAR(D8))
E9: =IF(D9="","",Portada!$C$11-YEAR(D9))
E10: =IF(D10="","",Portada!$C$11-YEAR(D10))
E11: =IF(D11="","",Portada!$C$11-YEAR(D11))
E12: =IF(D12="","",Portada!$C$11-YEAR(D12))
E13: =IF(D13="","",Portada!$C$11-YEAR(D13))
E14: =IF(D14="","",Portada!$C$11-YEAR(D14))
E15: =IF(D15="","",Portada!$C$11-YEAR(D15))
E16: =IF(D16="","",Portada!$C$11-YEAR(D16))
... E200: =IF(D200="","",Portada!$C$11-YEAR(D200))

Sheet Traslado 2 Adj
A1: =Portada!$C$10
A2: ="Traslado de expediente (2ª Adjudicación) — Curso "&Portada!$C$11
A3: Entrada de datos (rellena las filas)
A4: NIA | B4: Apellidos | C4: Nombre | D4: F. nacimiento | E4: Edad (31-dic) | F4: Especialidad | G4: Curso origen | H4: Curso solicitado | I4: Nota media | J4: Asignaturas pendientes | K4: Centro de origen | L4: Observaciones | M4: Convocatoria | N4: Fase | O4: Nivel prioridad
E5: =IF(D5="","",Portada!$C$11-YEAR(D5)) | M5: Ordinaria | N5: =IF($A5="","","2ª adjudicación") | O5: =IF($A5="","",IF(ISNUMBER(SEARCH("EPM",$H5)),IF($E5<18,"N1","N3"),IF($E5<12,"N2","N4")))
E6: =IF(D6="","",Portada!$C$11-YEAR(D6)) | M6: Ordinaria | N6: =IF($A6="","","2ª adjudicación") | O6: =IF($A6="","",IF(ISNUMBER(SEARCH("EPM",$H6)),IF($E6<18,"N1","N3"),IF($E6<12,"N2","N4")))
E7: =IF(D7="","",Portada!$C$11-YEAR(D7)) | M7: Ordinaria | N7: =IF($A7="","","2ª adjudicación") | O7: =IF($A7="","",IF(ISNUMBER(SEARCH("EPM",$H7)),IF($E7<18,"N1","N3"),IF($E7<12,"N2","N4")))
E8: =IF(D8="","",Portada!$C$11-YEAR(D8)) | M8: Ordinaria | N8: =IF($A8="","","2ª adjudicación") | O8: =IF($A8="","",IF(ISNUMBER(SEARCH("EPM",$H8)),IF($E8<18,"N1","N3"),IF($E8<12,"N2","N4")))
E9: =IF(D9="","",Portada!$C$11-YEAR(D9)) | N9: =IF($A9="","","2ª adjudicación") | O9: =IF($A9="","",IF(ISNUMBER(SEARCH("EPM",$H9)),IF($E9<18,"N1","N3"),IF($E9<12,"N2","N4")))
E10: =IF(D10="","",Portada!$C$11-YEAR(D10)) | N10: =IF($A10="","","2ª adjudicación") | O10: =IF($A10="","",IF(ISNUMBER(SEARCH("EPM",$H10)),IF($E10<18,"N1","N3"),IF($E10<12,"N2","N4")))
E11: =IF(D11="","",Portada!$C$11-YEAR(D11)) | N11: =IF($A11="","","2ª adjudicación") | O11: =IF($A11="","",IF(ISNUMBER(SEARCH("EPM",$H11)),IF($E11<18,"N1","N3"),IF($E11<12,"N2","N4")))
E12: =IF(D12="","",Portada!$C$11-YEAR(D12)) | N12: =IF($A12="","","2ª adjudicación") | O12: =IF($A12="","",IF(ISNUMBER(SEARCH("EPM",$H12)),IF($E12<18,"N1","N3"),IF($E12<12,"N2","N4")))
E13: =IF(D13="","",Portada!$C$11-YEAR(D13)) | N13: =IF($A13="","","2ª adjudicación") | O13: =IF($A13="","",IF(ISNUMBER(SEARCH("EPM",$H13)),IF($E13<18,"N1","N3"),IF($E13<12,"N2","N4")))
E14: =IF(D14="","",Portada!$C$11-YEAR(D14)) | N14: =IF($A14="","","2ª adjudicación") | O14: =IF($A14="","",IF(ISNUMBER(SEARCH("EPM",$H14)),IF($E14<18,"N1","N3"),IF($E14<12,"N2","N4")))
E15: =IF(D15="","",Portada!$C$11-YEAR(D15)) | N15: =IF($A15="","","2ª adjudicación") | O15: =IF($A15="","",IF(ISNUMBER(SEARCH("EPM",$H15)),IF($E15<18,"N1","N3"),IF($E15<12,"N2","N4")))
E16: =IF(D16="","",Portada!$C$11-YEAR(D16)) | N16: =IF($A16="","","2ª adjudicación") | O16: =IF($A16="","",IF(ISNUMBER(SEARCH("EPM",$H16)),IF($E16<18,"N1","N3"),IF($E16<12,"N2","N4")))
E17: =IF(D17="","",Portada!$C$11-YEAR(D17)) | N17: =IF($A17="","","2ª adjudicación") | O17: =IF($A17="","",IF(ISNUMBER(SEARCH("EPM",$H17)),IF($E17<18,"N1","N3"),IF($E17<12,"N2","N4")))
E18: =IF(D18="","",Portada!$C$11-YEAR(D18)) | N18: =IF($A18="","","2ª adjudicación") | O18: =IF($A18="","",IF(ISNUMBER(SEARCH("EPM",$H18)),IF($E18<18,"N1","N3"),IF($E18<12,"N2","N4")))
E19: =IF(D19="","",Portada!$C$11-YEAR(D19)) | N19: =IF($A19="","","2ª adjudicación") | O19: =IF($A19="","",IF(ISNUMBER(SEARCH("EPM",$H19)),IF($E19<18,"N1","N3"),IF($E19<12,"N2","N4")))
E20: =IF(D20="","",Portada!$C$11-YEAR(D20)) | N20: =IF($A20="","","2ª adjudicación") | O20: =IF($A20="","",IF(ISNUMBER(SEARCH("EPM",$H20)),IF($E20<18,"N1","N3"),IF($E20<12,"N2","N4")))
... E200: =IF(D200="","",Portada!$C$11-YEAR(D200)) | N200: =IF($A200="","","2ª adjudicación") | O200: =IF($A200="","",IF(ISNUMBER(SEARCH("EPM",$H200)),IF($E200<18,"N1","N3"),IF($E200<12,"N2","N4")))

Sheet Readmisión otro centro
A1: =Portada!$C$10
A2: ="Readmisión desde otro centro — Curso "&Portada!$C$11
A3: Entrada de datos (rellena las filas)
A4: NIA | B4: Apellidos | C4: Nombre | D4: F. nacimiento | E4: Edad (31-dic) | F4: Especialidad | G4: Curso origen | H4: Curso solicitado | I4: Nota media | J4: Asignaturas pendientes | K4: Centro de origen | L4: Observaciones | M4: Convocatoria | N4: Fase | O4: Nivel prioridad
E5: =IF(D5="","",Portada!$C$11-YEAR(D5)) | N5: =IF($A5="","","2ª adjudicación") | O5: =IF($A5="","",IF(ISNUMBER(SEARCH("EPM",$H5)),IF($E5<18,"N1","N3"),IF($E5<12,"N2","N4")))
E6: =IF(D6="","",Portada!$C$11-YEAR(D6)) | N6: =IF($A6="","","2ª adjudicación") | O6: =IF($A6="","",IF(ISNUMBER(SEARCH("EPM",$H6)),IF($E6<18,"N1","N3"),IF($E6<12,"N2","N4")))
E7: =IF(D7="","",Portada!$C$11-YEAR(D7)) | N7: =IF($A7="","","2ª adjudicación") | O7: =IF($A7="","",IF(ISNUMBER(SEARCH("EPM",$H7)),IF($E7<18,"N1","N3"),IF($E7<12,"N2","N4")))
E8: =IF(D8="","",Portada!$C$11-YEAR(D8)) | N8: =IF($A8="","","2ª adjudicación") | O8: =IF($A8="","",IF(ISNUMBER(SEARCH("EPM",$H8)),IF($E8<18,"N1","N3"),IF($E8<12,"N2","N4")))
E9: =IF(D9="","",Portada!$C$11-YEAR(D9)) | N9: =IF($A9="","","2ª adjudicación") | O9: =IF($A9="","",IF(ISNUMBER(SEARCH("EPM",$H9)),IF($E9<18,"N1","N3"),IF($E9<12,"N2","N4")))
E10: =IF(D10="","",Portada!$C$11-YEAR(D10)) | N10: =IF($A10="","","2ª adjudicación") | O10: =IF($A10="","",IF(ISNUMBER(SEARCH("EPM",$H10)),IF($E10<18,"N1","N3"),IF($E10<12,"N2","N4")))
E11: =IF(D11="","",Portada!$C$11-YEAR(D11)) | N11: =IF($A11="","","2ª adjudicación") | O11: =IF($A11="","",IF(ISNUMBER(SEARCH("EPM",$H11)),IF($E11<18,"N1","N3"),IF($E11<12,"N2","N4")))
E12: =IF(D12="","",Portada!$C$11-YEAR(D12)) | N12: =IF($A12="","","2ª adjudicación") | O12: =IF($A12="","",IF(ISNUMBER(SEARCH("EPM",$H12)),IF($E12<18,"N1","N3"),IF($E12<12,"N2","N4")))
E13: =IF(D13="","",Portada!$C$11-YEAR(D13)) | N13: =IF($A13="","","2ª adjudicación") | O13: =IF($A13="","",IF(ISNUMBER(SEARCH("EPM",$H13)),IF($E13<18,"N1","N3"),IF($E13<12,"N2","N4")))
E14: =IF(D14="","",Portada!$C$11-YEAR(D14)) | N14: =IF($A14="","","2ª adjudicación") | O14: =IF($A14="","",IF(ISNUMBER(SEARCH("EPM",$H14)),IF($E14<18,"N1","N3"),IF($E14<12,"N2","N4")))
E15: =IF(D15="","",Portada!$C$11-YEAR(D15)) | N15: =IF($A15="","","2ª adjudicación") | O15: =IF($A15="","",IF(ISNUMBER(SEARCH("EPM",$H15)),IF($E15<18,"N1","N3"),IF($E15<12,"N2","N4")))
E16: =IF(D16="","",Portada!$C$11-YEAR(D16)) | N16: =IF($A16="","","2ª adjudicación") | O16: =IF($A16="","",IF(ISNUMBER(SEARCH("EPM",$H16)),IF($E16<18,"N1","N3"),IF($E16<12,"N2","N4")))
... E200: =IF(D200="","",Portada!$C$11-YEAR(D200)) | N200: =IF($A200="","","2ª adjudicación") | O200: =IF($A200="","",IF(ISNUMBER(SEARCH("EPM",$H200)),IF($E200<18,"N1","N3"),IF($E200<12,"N2","N4")))

Sheet PPAA otro centro
A1: =Portada!$C$10
A2: ="Prueba de Acceso superada en otro centro (2ª Adjudicación) — Curso "&Portada!$C$11
A3: Entrada de datos (rellena las filas)
A4: NIA | B4: Apellidos | C4: Nombre | D4: F. nacimiento | E4: Edad (31-dic) | F4: Especialidad | G4: Curso origen | H4: Curso solicitado | I4: Nota media | J4: Asignaturas pendientes | K4: Centro de origen | L4: Observaciones | M4: Convocatoria | N4: Fase | O4: Nivel prioridad
E5: =IF(D5="","",Portada!$C$11-YEAR(D5)) | N5: =IF($A5="","","2ª adjudicación") | O5: =IF($A5="","",IF(ISNUMBER(SEARCH("EPM",$H5)),IF($E5<18,"N1","N3"),IF($E5<12,"N2","N4")))
E6: =IF(D6="","",Portada!$C$11-YEAR(D6)) | N6: =IF($A6="","","2ª adjudicación") | O6: =IF($A6="","",IF(ISNUMBER(SEARCH("EPM",$H6)),IF($E6<18,"N1","N3"),IF($E6<12,"N2","N4")))
E7: =IF(D7="","",Portada!$C$11-YEAR(D7)) | N7: =IF($A7="","","2ª adjudicación") | O7: =IF($A7="","",IF(ISNUMBER(SEARCH("EPM",$H7)),IF($E7<18,"N1","N3"),IF($E7<12,"N2","N4")))
E8: =IF(D8="","",Portada!$C$11-YEAR(D8)) | N8: =IF($A8="","","2ª adjudicación") | O8: =IF($A8="","",IF(ISNUMBER(SEARCH("EPM",$H8)),IF($E8<18,"N1","N3"),IF($E8<12,"N2","N4")))
E9: =IF(D9="","",Portada!$C$11-YEAR(D9)) | N9: =IF($A9="","","2ª adjudicación") | O9: =IF($A9="","",IF(ISNUMBER(SEARCH("EPM",$H9)),IF($E9<18,"N1","N3"),IF($E9<12,"N2","N4")))
E10: =IF(D10="","",Portada!$C$11-YEAR(D10)) | N10: =IF($A10="","","2ª adjudicación") | O10: =IF($A10="","",IF(ISNUMBER(SEARCH("EPM",$H10)),IF($E10<18,"N1","N3"),IF($E10<12,"N2","N4")))
E11: =IF(D11="","",Portada!$C$11-YEAR(D11)) | N11: =IF($A11="","","2ª adjudicación") | O11: =IF($A11="","",IF(ISNUMBER(SEARCH("EPM",$H11)),IF($E11<18,"N1","N3"),IF($E11<12,"N2","N4")))
E12: =IF(D12="","",Portada!$C$11-YEAR(D12)) | N12: =IF($A12="","","2ª adjudicación") | O12: =IF($A12="","",IF(ISNUMBER(SEARCH("EPM",$H12)),IF($E12<18,"N1","N3"),IF($E12<12,"N2","N4")))
E13: =IF(D13="","",Portada!$C$11-YEAR(D13)) | N13: =IF($A13="","","2ª adjudicación") | O13: =IF($A13="","",IF(ISNUMBER(SEARCH("EPM",$H13)),IF($E13<18,"N1","N3"),IF($E13<12,"N2","N4")))
E14: =IF(D14="","",Portada!$C$11-YEAR(D14)) | N14: =IF($A14="","","2ª adjudicación") | O14: =IF($A14="","",IF(ISNUMBER(SEARCH("EPM",$H14)),IF($E14<18,"N1","N3"),IF($E14<12,"N2","N4")))
E15: =IF(D15="","",Portada!$C$11-YEAR(D15)) | N15: =IF($A15="","","2ª adjudicación") | O15: =IF($A15="","",IF(ISNUMBER(SEARCH("EPM",$H15)),IF($E15<18,"N1","N3"),IF($E15<12,"N2","N4")))
E16: =IF(D16="","",Portada!$C$11-YEAR(D16)) | N16: =IF($A16="","","2ª adjudicación") | O16: =IF($A16="","",IF(ISNUMBER(SEARCH("EPM",$H16)),IF($E16<18,"N1","N3"),IF($E16<12,"N2","N4")))
... E200: =IF(D200="","",Portada!$C$11-YEAR(D200)) | N200: =IF($A200="","","2ª adjudicación") | O200: =IF($A200="","",IF(ISNUMBER(SEARCH("EPM",$H200)),IF($E200<18,"N1","N3"),IF($E200<12,"N2","N4")))

Sheet Combinado
B1: =Portada!$C$10
B2: ="Listado combinado de solicitudes — Curso "&Portada!$C$11
B3: Se actualiza automáticamente desde las hojas de cada trámite.
A4: Origen | B4: Fase | C4: Trámite | D4: Especialidad | E4: NIA | F4: Apellidos y Nombre | G4: Fecha de nacimiento | H4: Curso solicitado | I4: Calificación | J4: Centro de origen | K4: Estado | L4: Observaciones | M4: Convocatoria | P4: ▼ Datos sin ordenar (auxiliar, no editar)
A5: {=IF(COUNTA(_xlfn.CHOOSECOLS(_xlfn.ANCHORARRAY(P5),3))-SUMPRODUCT(--(_xlfn.CHOOSECOLS(_xlfn.ANCHORARRAY(P5),3)=""))=0,"",_xlfn.LET(_xlpm.S,_xlfn.SORTBY(_xlfn.ANCHORARRAY(P5),IF(_xlfn.CHOOSECOLS(_xlfn.ANCHORARRAY(P5),1)="1ª adjudicación",1,2),1,VALUE(MID(_xlfn.CHOOSECOLS(_xlfn.ANCHORARRAY(P5),2),2,1)),1,LOOKUP(_xlfn.CHOOSECOLS(_xlfn.ANCHORARRAY(P5),3),{"Cambio Especialidad";"PPAA otro centro";"Readmisión 1 Adj";"Readmisión otro centro";"Traslado 2 Adj"},{3;6;1;5;4}),1,IFERROR(VALUE(LEFT(_xlfn.CHOOSECOLS(_xlfn.ANCHORARRAY(P5),11),1))+IF(ISNUMBER(SEARCH("EPM",_xlfn.CHOOSECOLS(_xlfn.ANCHORARRAY(P5),11))),4,0),0),-1,IFERROR(_xlfn.CHOOSECOLS(_xlfn.ANCHORARRAY(P5),12)*1,0),-1,IFERROR(_xlfn.CHOOSECOLS(_xlfn.ANCHORARRAY(P5),7)*1,0),-1,_xlfn.LET(_xlpm.x,UPPER(IFERROR(_xlfn.TEXTBEFORE(_xlfn.CHOOSECOLS(_xlfn.ANCHORARRAY(P5),5)&" "," "),_xlfn.CHOOSECOLS(_xlfn.ANCHORARRAY(P5),5))&"AA"),MOD(CODE(MID(_xlpm.x,1,1))-CODE(MID(UPPER(Portada!$C$15)&"AA",1,1)),26)*26+MOD(CODE(MID(_xlpm.x,2,1))-CODE(MID(UPPER(Portada!$C$16)&"AA",2,1)),26)),1,_xlfn.LET(_xlpm.x,UPPER(IFERROR(IF(ISNUMBER(SEARCH(" ",_xlfn.CHOOSECOLS(_xlfn.ANCHORARRAY(P5),5))),_xlfn.TEXTAFTER(_xlfn.CHOOSECOLS(_xlfn.ANCHORARRAY(P5),5)," "),"AA"),"AA")&"AA"),MOD(CODE(MID(_xlpm.x,1,1))-CODE(MID(UPPER(Portada!$C$15)&"AA",1,1)),26)*26+MOD(CODE(MID(_xlpm.x,2,1))-CODE(MID(UPPER(Portada!$C$16)&"AA",2,1)),26)),1),_xlfn.HSTACK(IF(_xlfn.SEQUENCE(ROWS(_xlpm.S)),"Registro de solicitudes"),_xlfn.CHOOSECOLS(_xlpm.S,1),LOOKUP(_xlfn.CHOOSECOLS(_xlpm.S,3),{"Cambio Especialidad";"PPAA otro centro";"Readmisión 1 Adj";"Readmisión otro centro";"Traslado 2 Adj"},{"Cambio de especialidad";"Prueba de acceso otro centro";"Readmisión mismo centro";"Readmisión otro centro";"Traslado de expediente"}),UPPER(TRIM(_xlfn.CHOOSECOLS(_xlpm.S,9))),_xlfn.CHOOSECOLS(_xlpm.S,4),TRIM(_xlfn.CHOOSECOLS(_xlpm.S,5))&", "&TRIM(_xlfn.CHOOSECOLS(_xlpm.S,6)),_xlfn.CHOOSECOLS(_xlpm.S,7),_xlfn.CHOOSECOLS(_xlpm.S,11),IF(_xlfn.CHOOSECOLS(_xlpm.S,12)=0,"",_xlfn.CHOOSECOLS(_xlpm.S,12)),_xlfn.CHOOSECOLS(_xlpm.S,14),IF(_xlfn.SEQUENCE(ROWS(_xlpm.S)),"Activo"),_xlfn.CHOOSECOLS(_xlpm.S,15),_xlfn.CHOOSECOLS(_xlpm.S,16))))} | P5: {=_xlfn.LET(_xlpm.m,_xlfn.VSTACK(IFERROR(_xlfn.LET(_xlpm.d,_xlfn._xlws.FILTER('Readmisión 1 Adj'!A5:L200,'Readmisión 1 Adj'!A5:A200<>"",""),_xlpm.e,IF(_xlfn.CHOOSECOLS(_xlpm.d,4)="","",Portada!$C$11-YEAR(_xlfn.CHOOSECOLS(_xlpm.d,4))),_xlpm.cs,_xlfn.CHOOSECOLS(_xlpm.d,8),_xlpm.epm,ISNUMBER(SEARCH("EPM",_xlpm.cs)),_xlpm.niv,IF(_xlfn.CHOOSECOLS(_xlpm.d,1)="","",IF(_xlpm.epm,IF(_xlpm.e<18,"N1","N3"),IF(_xlpm.e<12,"N2","N4"))),_xlfn.HSTACK(IF(_xlfn.CHOOSECOLS(_xlpm.d,1)="","","1ª adjudicación"),_xlpm.niv,IF(_xlfn.CHOOSECOLS(_xlpm.d,1)="","","Readmisión 1 Adj"),_xlfn.CHOOSECOLS(_xlpm.d,1),_xlfn.CHOOSECOLS(_xlpm.d,2),_xlfn.CHOOSECOLS(_xlpm.d,3),_xlfn.CHOOSECOLS(_xlpm.d,4),_xlpm.e,_xlfn.CHOOSECOLS(_xlpm.d,6),_xlfn.CHOOSECOLS(_xlpm.d,7),_xlpm.cs,_xlfn.CHOOSECOLS(_xlpm.d,9),IF(_xlfn.CHOOSECOLS(_xlpm.d,10)=0,"",_xlfn.CHOOSECOLS(_xlpm.d,10)),IF(_xlfn.CHOOSECOLS(_xlpm.d,1)="","",""),IF(_xlfn.CHOOSECOLS(_xlpm.d,11)=0,"",_xlfn.CHOOSECOLS(_xlpm.d,11)),IF((_xlfn.CHOOSECOLS(_xlpm.d,12)=0)+(_xlfn.CHOOSECOLS(_xlpm.d,12)=""),"Ordinaria",_xlfn.CHOOSECOLS(_xlpm.d,12)))),_xlfn.TEXTSPLIT(",,,,,,,,,,,,,,,",",")),IFERROR(_xlfn.LET(_xlpm.d,_xlfn._xlws.FILTER('Cambio Especialidad'!A5:K200,'Cambio Especialidad'!A5:A200<>"",""),_xlpm.e,IF(_xlfn.CHOOSECOLS(_xlpm.d,4)="","",Portada!$C$11-YEAR(_xlfn.CHOOSECOLS(_xlpm.d,4))),_xlpm.cs,_xlfn.CHOOSECOLS(_xlpm.d,7),_xlpm.epm,ISNUMBER(SEARCH("EPM",_xlpm.cs)),_xlpm.niv,IF(_xlfn.CHOOSECOLS(_xlpm.d,1)="","",IF(_xlpm.epm,IF(_xlpm.e<18,"N1","N3"),IF(_xlpm.e<12,"N2","N4"))),_xlfn.HSTACK(IF(_xlfn.CHOOSECOLS(_xlpm.d,1)="","","1ª adjudicación"),_xlpm.niv,IF(_xlfn.CHOOSECOLS(_xlpm.d,1)="","","Cambio Especialidad"),_xlfn.CHOOSECOLS(_xlpm.d,1),_xlfn.CHOOSECOLS(_xlpm.d,2),_xlfn.CHOOSECOLS(_xlpm.d,3),_xlfn.CHOOSECOLS(_xlpm.d,4),_xlpm.e,_xlfn.CHOOSECOLS(_xlpm.d,8),_xlfn.CHOOSECOLS(_xlpm.d,6),_xlpm.cs,_xlfn.CHOOSECOLS(_xlpm.d,9),IF(_xlfn.CHOOSECOLS(_xlpm.d,1)="","",""),IF(_xlfn.CHOOSECOLS(_xlpm.d,1)="","",""),IF(_xlfn.CHOOSECOLS(_xlpm.d,10)=0,"",_xlfn.CHOOSECOLS(_xlpm.d,10)),IF((_xlfn.CHOOSECOLS(_xlpm.d,11)=0)+(_xlfn.CHOOSECOLS(_xlpm.d,11)=""),"Ordinaria",_xlfn.CHOOSECOLS(_xlpm.d,11)))),_xlfn.TEXTSPLIT(",,,,,,,,,,,,,,,",",")),IFERROR(_xlfn.LET(_xlpm.d,_xlfn._xlws.FILTER('Traslado 2 Adj'!A5:M200,'Traslado 2 Adj'!A5:A200<>"",""),_xlpm.e,IF(_xlfn.CHOOSECOLS(_xlpm.d,4)="","",Portada!$C$11-YEAR(_xlfn.CHOOSECOLS(_xlpm.d,4))),_xlpm.cs,_xlfn.CHOOSECOLS(_xlpm.d,8),_xlpm.epm,ISNUMBER(SEARCH("EPM",_xlpm.cs)),_xlpm.niv,IF(_xlfn.CHOOSECOLS(_xlpm.d,1)="","",IF(_xlpm.epm,IF(_xlpm.e<18,"N1","N3"),IF(_xlpm.e<12,"N2","N4"))),_xlfn.HSTACK(IF(_xlfn.CHOOSECOLS(_xlpm.d,1)="","","2ª adjudicación"),_xlpm.niv,IF(_xlfn.CHOOSECOLS(_xlpm.d,1)="","","Traslado 2 Adj"),_xlfn.CHOOSECOLS(_xlpm.d,1),_xlfn.CHOOSECOLS(_xlpm.d,2),_xlfn.CHOOSECOLS(_xlpm.d,3),_xlfn.CHOOSECOLS(_xlpm.d,4),_xlpm.e,_xlfn.CHOOSECOLS(_xlpm.d,6),_xlfn.CHOOSECOLS(_xlpm.d,7),_xlpm.cs,_xlfn.CHOOSECOLS(_xlpm.d,9),IF(_xlfn.CHOOSECOLS(_xlpm.d,10)=0,"",_xlfn.CHOOSECOLS(_xlpm.d,10)),IF(_xlfn.CHOOSECOLS(_xlpm.d,11)=0,"",_xlfn.CHOOSECOLS(_xlpm.d,11)),IF(_xlfn.CHOOSECOLS(_xlpm.d,12)=0,"",_xlfn.CHOOSECOLS(_xlpm.d,12)),IF((_xlfn.CHOOSECOLS(_xlpm.d,13)=0)+(_xlfn.CHOOSECOLS(_xlpm.d,13)=""),"Ordinaria",_xlfn.CHOOSECOLS(_xlpm.d,13)))),_xlfn.TEXTSPLIT(",,,,,,,,,,,,,,,",",")),IFERROR(_xlfn.LET(_xlpm.d,_xlfn._xlws.FILTER('Readmisión otro centro'!A5:M200,'Readmisión otro centro'!A5:A200<>"",""),_xlpm.e,IF(_xlfn.CHOOSECOLS(_xlpm.d,4)="","",Portada!$C$11-YEAR(_xlfn.CHOOSECOLS(_xlpm.d,4))),_xlpm.cs,_xlfn.CHOOSECOLS(_xlpm.d,8),_xlpm.epm,ISNUMBER(SEARCH("EPM",_xlpm.cs)),_xlpm.niv,IF(_xlfn.CHOOSECOLS(_xlpm.d,1)="","",IF(_xlpm.epm,IF(_xlpm.e<18,"N1","N3"),IF(_xlpm.e<12,"N2","N4"))),_xlfn.HSTACK(IF(_xlfn.CHOOSECOLS(_xlpm.d,1)="","","2ª adjudicación"),_xlpm.niv,IF(_xlfn.CHOOSECOLS(_xlpm.d,1)="","","Readmisión otro centro"),_xlfn.CHOOSECOLS(_xlpm.d,1),_xlfn.CHOOSECOLS(_xlpm.d,2),_xlfn.CHOOSECOLS(_xlpm.d,3),_xlfn.CHOOSECOLS(_xlpm.d,4),_xlpm.e,_xlfn.CHOOSECOLS(_xlpm.d,6),_xlfn.CHOOSECOLS(_xlpm.d,7),_xlpm.cs,_xlfn.CHOOSECOLS(_xlpm.d,9),IF(_xlfn.CHOOSECOLS(_xlpm.d,10)=0,"",_xlfn.CHOOSECOLS(_xlpm.d,10)),IF(_xlfn.CHOOSECOLS(_xlpm.d,11)=0,"",_xlfn.CHOOSECOLS(_xlpm.d,11)),IF(_xlfn.CHOOSECOLS(_xlpm.d,12)=0,"",_xlfn.CHOOSECOLS(_xlpm.d,12)),IF((_xlfn.CHOOSECOLS(_xlpm.d,13)=0)+(_xlfn.CHOOSECOLS(_xlpm.d,13)=""),"Ordinaria",_xlfn.CHOOSECOLS(_xlpm.d,13)))),_xlfn.TEXTSPLIT(",,,,,,,,,,,,,,,",",")),IFERROR(_xlfn.LET(_xlpm.d,_xlfn._xlws.FILTER('PPAA otro centro'!A5:M200,'PPAA otro centro'!A5:A200<>"",""),_xlpm.e,IF(_xlfn.CHOOSECOLS(_xlpm.d,4)="","",Portada!$C$11-YEAR(_xlfn.CHOOSECOLS(_xlpm.d,4))),_xlpm.cs,_xlfn.CHOOSECOLS(_xlpm.d,8),_xlpm.epm,ISNUMBER(SEARCH("EPM",_xlpm.cs)),_xlpm.niv,IF(_xlfn.CHOOSECOLS(_xlpm.d,1)="","",IF(_xlpm.epm,IF(_xlpm.e<18,"N1","N3"),IF(_xlpm.e<12,"N2","N4"))),_xlfn.HSTACK(IF(_xlfn.CHOOSECOLS(_xlpm.d,1)="","","2ª adjudicación"),_xlpm.niv,IF(_xlfn.CHOOSECOLS(_xlpm.d,1)="","","PPAA otro centro"),_xlfn.CHOOSECOLS(_xlpm.d,1),_xlfn.CHOOSECOLS(_xlpm.d,2),_xlfn.CHOOSECOLS(_xlpm.d,3),_xlfn.CHOOSECOLS(_xlpm.d,4),_xlpm.e,_xlfn.CHOOSECOLS(_xlpm.d,6),_xlfn.CHOOSECOLS(_xlpm.d,7),_xlpm.cs,_xlfn.CHOOSECOLS(_xlpm.d,9),IF(_xlfn.CHOOSECOLS(_xlpm.d,10)=0,"",_xlfn.CHOOSECOLS(_xlpm.d,10)),IF(_xlfn.CHOOSECOLS(_xlpm.d,11)=0,"",_xlfn.CHOOSECOLS(_xlpm.d,11)),IF(_xlfn.CHOOSECOLS(_xlpm.d,12)=0,"",_xlfn.CHOOSECOLS(_xlpm.d,12)),IF((_xlfn.CHOOSECOLS(_xlpm.d,13)=0)+(_xlfn.CHOOSECOLS(_xlpm.d,13)=""),"Ordinaria",_xlfn.CHOOSECOLS(_xlpm.d,13)))),_xlfn.TEXTSPLIT(",,,,,,,,,,,,,,,",","))),_xlfn._xlws.FILTER(_xlpm.m,_xlfn.CHOOSECOLS(_xlpm.m,3)<>"",_xlfn.TEXTSPLIT(",,,,,,,,,,,,,,,",",")))}
